BEGIN:VCALENDAR
VERSION:2.0
PRODID:-//wp-events-plugin.com//7.2.3.1//EN
TZID:America/New_York
X-WR-TIMEZONE:America/New_York
BEGIN:VEVENT
UID:295@yryc.org
DTSTART;TZID=America/New_York:20230429T090000
DTEND;TZID=America/New_York:20230429T140000
DTSTAMP:20230115T170402Z
URL:https://www.yryc.org/events/2023-blessing-of-the-fleet-and-sock-burnin
 g/
SUMMARY:2023 Blessing of the Fleet and Sock Burning
DESCRIPTION:One of our favorite annual events!\n\nThe fun starts at 9:00am 
 with danish\, donuts and coffee\, has a boat parade and ends with a picnic
  lunch and sock burning!\n\nRegistration and schedule will be available cl
 oser to the event date.
ATTACH;FMTTYPE=image/jpeg:https://www.yryc.org/wp-content/uploads/2023/01/
 2023-blessing-of-the-fleet-2.png
CATEGORIES:Other,Social
END:VEVENT
BEGIN:VTIMEZONE
TZID:America/New_York
X-LIC-LOCATION:America/New_York
BEGIN:DAYLIGHT
DTSTART:20230312T030000
TZOFFSETFROM:-0500
TZOFFSETTO:-0400
TZNAME:EDT
END:DAYLIGHT
END:VTIMEZONE
END:VCALENDAR