BEGIN:VCALENDAR
VERSION:2.0
PRODID:-//wp-events-plugin.com//7.2.3.1//EN
TZID:America/New_York
X-WR-TIMEZONE:America/New_York
BEGIN:VEVENT
UID:442@yryc.org
DTSTART;TZID=America/New_York:20230826T190000
DTEND;TZID=America/New_York:20230826T234500
DTSTAMP:20230727T013149Z
URL:https://www.yryc.org/events/2023-moonlight-race/
SUMMARY:2023 Moonlight Race
DESCRIPTION:The annual Moonlight Race will take place on Saturday\, August 
 26 (rescheduled from July 29).\n&nbsp\;\nStarting in the evening and finis
 hing after dark\, racers follow a course that will take competitors out ar
 ound York Spit Light and back. This race will include a spinnaker and a no
 n-spinnaker Fleet.\n&nbsp\;\nDetails and the Special Sailing Instructions 
 are now posted on the YRYC Racing website and are available for download. 
 &nbsp\;On-line sign-up form available here!\n&nbsp\;\nOpen to all boats wh
 o meet PHRF of the Chesapeake Fleet Safety Requirements for Chesapeake Bay
  – Category 4P. Winners of the Moonlight Race receive the John Dworak Me
 morial Trophy!
ATTACH;FMTTYPE=image/jpeg:https://www.yryc.org/wp-content/uploads/2023/03/
 2023-Moonlight-Race-Rescheduled.png
CATEGORIES:Racing
END:VEVENT
BEGIN:VTIMEZONE
TZID:America/New_York
X-LIC-LOCATION:America/New_York
BEGIN:DAYLIGHT
DTSTART:20230312T030000
TZOFFSETFROM:-0500
TZOFFSETTO:-0400
TZNAME:EDT
END:DAYLIGHT
END:VTIMEZONE
END:VCALENDAR