BEGIN:VCALENDAR
VERSION:2.0
PRODID:-//wp-events-plugin.com//7.2.3.1//EN
TZID:America/New_York
X-WR-TIMEZONE:America/New_York
BEGIN:VEVENT
UID:383@yryc.org
DTSTART;TZID=America/New_York:20230318T100000
DTEND;TZID=America/New_York:20230318T140000
DTSTAMP:20230218T165321Z
URL:https://www.yryc.org/events/2023-racing-registration-open-house-ii/
SUMMARY:2023 Racing Registration Open House II
DESCRIPTION:York River Yacht Club will be starting the year with its Spring
  Racing Series. So come Wednesday\, March 15 or Saturday\, March 18 to sig
 n up for the season . Event taking place at the YRYH Activities Room.\n\nA
  full calendar of the club's racing season and the updated Racing Rules &a
 mp\; Guidelines (RR&amp\;G) handbook will be available on the YRYC website
  (yryc.org)
ATTACH;FMTTYPE=image/jpeg:https://www.yryc.org/wp-content/uploads/2023/02/
 2023-IG-RACING-OPEN-HOUSE.png
CATEGORIES:Racing
LOCATION:https://yorkriveryachthaven.com
END:VEVENT
BEGIN:VTIMEZONE
TZID:America/New_York
X-LIC-LOCATION:America/New_York
BEGIN:DAYLIGHT
DTSTART:20230312T030000
TZOFFSETFROM:-0500
TZOFFSETTO:-0400
TZNAME:EDT
END:DAYLIGHT
END:VTIMEZONE
END:VCALENDAR