BEGIN:VCALENDAR
VERSION:2.0
PRODID:-//wp-events-plugin.com//7.2.3.1//EN
TZID:America/New_York
X-WR-TIMEZONE:America/New_York
BEGIN:VEVENT
UID:437@yryc.org
DTSTART;TZID=America/New_York:20230701T130000
DTEND;TZID=America/New_York:20230701T160000
DTSTAMP:20230304T225529Z
URL:https://www.yryc.org/events/2023-racing-season-2023-07-01/
SUMMARY:2023 Racing Season
DESCRIPTION:Three series of eight races each\, for a total of twenty-four r
 aces\, are scheduled (taking off for the windless month of August 2023). S
 ix races in each series will count toward the series and season trophies.\
 n\nApril 8 is our practice race day with racing season beginning the follo
 wing Saturday\, April 15.\n\nIf not a club member but interested in racing
 \, contact racecaptain@yryc.org\n\nMore information about our racing progr
 am found at yryc.org/racing
ATTACH;FMTTYPE=image/jpeg:https://www.yryc.org/wp-content/uploads/2023/03/
 2023-YRYC-Weekend-Racing-Series.png
CATEGORIES:Racing
END:VEVENT
BEGIN:VTIMEZONE
TZID:America/New_York
X-LIC-LOCATION:America/New_York
BEGIN:DAYLIGHT
DTSTART:20230312T030000
TZOFFSETFROM:-0500
TZOFFSETTO:-0400
TZNAME:EDT
END:DAYLIGHT
END:VTIMEZONE
END:VCALENDAR