BEGIN:VCALENDAR
VERSION:2.0
PRODID:-//wp-events-plugin.com//7.2.3.1//EN
TZID:America/New_York
X-WR-TIMEZONE:America/New_York
BEGIN:VEVENT
UID:449@yryc.org
DTSTART;TZID=America/New_York:20230930T130000
DTEND;TZID=America/New_York:20230930T160000
DTSTAMP:20230830T000536Z
URL:https://www.yryc.org/events/2023-racing-series-2023-09-30/
SUMMARY:2023 Racing Series
DESCRIPTION:After the August break\, racing season resumes September 2 for 
 the Fall Racing Series. &nbsp\;\n\nThree series of eight races each\, for 
 a total of twenty-four races\, are scheduled (taking off for the windless 
 month of August 2023). Six races in each series will count toward the seri
 es and season trophies.\n\nIf not a club member but interested in racing\,
  contact racecaptain@yryc.org\n\nMore information about our racing program
  found at yryc.org/racing
ATTACH;FMTTYPE=image/jpeg:https://www.yryc.org/wp-content/uploads/2023/03/
 Fall-2023-Racing.png
CATEGORIES:Racing
END:VEVENT
BEGIN:VTIMEZONE
TZID:America/New_York
X-LIC-LOCATION:America/New_York
BEGIN:DAYLIGHT
DTSTART:20230312T030000
TZOFFSETFROM:-0500
TZOFFSETTO:-0400
TZNAME:EDT
END:DAYLIGHT
END:VTIMEZONE
END:VCALENDAR