BEGIN:VCALENDAR
VERSION:2.0
PRODID:-//wp-events-plugin.com//7.2.3.1//EN
TZID:America/New_York
X-WR-TIMEZONE:America/New_York
BEGIN:VEVENT
UID:466@yryc.org
DTSTART;TZID=America/New_York:20230625T140000
DTEND;TZID=America/New_York:20230625T170000
DTSTAMP:20230612T214412Z
URL:https://www.yryc.org/events/2023-single-handed-race/
SUMMARY:2023 Single Handed Race
DESCRIPTION:The club will hold its annual Single-Handed Race\, now named th
 e "Shaffner Cup"\, on Sunday\, June 25 at 2pm starting at R22.&nbsp\; The 
 sailing instructions will soon be posted on the club’s “Racing” web 
 page.\n&nbsp\;\nThis is a chance to get a taste of what weekend racing is 
 about.&nbsp\; All club boats are welcome.&nbsp\; If you just want to follo
 w the competitors around the course\, then grab some crew and come on out.
 &nbsp\; If you want to compete\, you must sail single-handed\, of course.\
 n&nbsp\;\nPlease contact the YRYC Race Captain\, Bob W\, at racecaptain@yr
 yc.org if you want to join in\, or if you have questions.
ATTACH;FMTTYPE=image/jpeg:https://www.yryc.org/wp-content/uploads/2023/06/
 2023-Single-Handed-Races-1.png
CATEGORIES:Racing
END:VEVENT
BEGIN:VTIMEZONE
TZID:America/New_York
X-LIC-LOCATION:America/New_York
BEGIN:DAYLIGHT
DTSTART:20230312T030000
TZOFFSETFROM:-0500
TZOFFSETTO:-0400
TZNAME:EDT
END:DAYLIGHT
END:VTIMEZONE
END:VCALENDAR