BEGIN:VCALENDAR
VERSION:2.0
PRODID:-//wp-events-plugin.com//7.2.3.1//EN
TZID:America/New_York
X-WR-TIMEZONE:America/New_York
BEGIN:VEVENT
UID:476@yryc.org
DTSTART;TZID=America/New_York:20241101T100000
DTEND;TZID=America/New_York:20241102T200000
DTSTAMP:20240129T205034Z
URL:https://www.yryc.org/events/2024-urbana-oyster-festival/
SUMMARY:2024 Urbana Oyster Festival
DESCRIPTION:2024 Urbana Oyster Festival
END:VEVENT
BEGIN:VTIMEZONE
TZID:America/New_York
X-LIC-LOCATION:America/New_York
BEGIN:DAYLIGHT
DTSTART:20240310T030000
TZOFFSETFROM:-0500
TZOFFSETTO:-0400
TZNAME:EDT
END:DAYLIGHT
END:VTIMEZONE
END:VCALENDAR