BEGIN:VCALENDAR
VERSION:2.0
PRODID:-//wp-events-plugin.com//7.2.3.1//EN
TZID:America/New_York
X-WR-TIMEZONE:America/New_York
BEGIN:VEVENT
UID:381@yryc.org
DTSTART;TZID=America/New_York:20230225T140000
DTEND;TZID=America/New_York:20230225T160000
DTSTAMP:20230116T201052Z
URL:https://www.yryc.org/events/8194/
SUMMARY:DriveShack RVA
DESCRIPTION:Join your YRYC friends for an afternoon of golfing antics at Dr
 iveShack. &nbsp\;If there is interest\, we can meet for lunch before or di
 nner after at one of many of dining options in the nearby Short Pump area.
  &nbsp\;Once we have the final headcount\, Liz will confirm via email with
  final details.\nPlease know all are welcome. &nbsp\; Kids\, in-laws\, you
 r second cousin twice removed. &nbsp\;\nDriveShack rates are $37/hr per go
 lfing bay. &nbsp\; Each bay can accommodate 6 golfers. &nbsp\;For every 6 
 golfers\, the cost of a 2 hour visit cost works out to about $15/pp.\n\n\n
  	When: Saturday\, February 25th\n 	Time: &nbsp\;2pm – 4pm\n 	Hosted by:
  &nbsp\;Liz and John\n\nRSVP here&nbsp\;by Monday\, February 20 to secure 
 our reservation.\nDriveShack RVA\n1647 Four Rings Dr\nRichmond\, VA 23233\
 nhttps://www.driveshack.com\nClick here for Google Map/Driving Directions\
 n\n\n\n&nbsp\;\n&nbsp\;\n\n\n
ATTACH;FMTTYPE=image/jpeg:https://www.yryc.org/wp-content/uploads/2023/01/
 Golfing-with-friends.png
CATEGORIES:Social
END:VEVENT
BEGIN:VTIMEZONE
TZID:America/New_York
X-LIC-LOCATION:America/New_York
BEGIN:STANDARD
DTSTART:20221106T010000
TZOFFSETFROM:-0400
TZOFFSETTO:-0500
TZNAME:EST
END:STANDARD
END:VTIMEZONE
END:VCALENDAR