BEGIN:VCALENDAR
VERSION:2.0
PRODID:-//wp-events-plugin.com//7.2.3.1//EN
TZID:America/New_York
X-WR-TIMEZONE:America/New_York
BEGIN:VEVENT
UID:373@yryc.org
DTSTART;TZID=America/New_York:20230811T180000
DTEND;TZID=America/New_York:20230811T203000
DTSTAMP:20230115T155313Z
URL:https://www.yryc.org/events/commodores-cocktail-party-2023-2023-08-11/
SUMMARY:Commodore's Cocktail Party 2023
DESCRIPTION:Stop by the deck of the YRYH Activities Building with a sharabl
 e snack (COVID permitting) for a evening of friendly conversation and fun.
  BYOB. Weather permitting.
ATTACH;FMTTYPE=image/jpeg:https://www.yryc.org/wp-content/uploads/2023/01/
 Commodores-Cocktail-Party-2023.png
CATEGORIES:Social
END:VEVENT
BEGIN:VTIMEZONE
TZID:America/New_York
X-LIC-LOCATION:America/New_York
BEGIN:DAYLIGHT
DTSTART:20230312T030000
TZOFFSETFROM:-0500
TZOFFSETTO:-0400
TZNAME:EDT
END:DAYLIGHT
END:VTIMEZONE
END:VCALENDAR