BEGIN:VCALENDAR
VERSION:2.0
PRODID:-//wp-events-plugin.com//7.2.3.1//EN
TZID:America/New_York
X-WR-TIMEZONE:America/New_York
BEGIN:VEVENT
UID:394@yryc.org
DTSTART;TZID=America/New_York;VALUE=DATE:20230917
DTEND;TZID=America/New_York;VALUE=DATE:20230918
DTSTAMP:20230304T143621Z
URL:https://www.yryc.org/events/cruise-to-norfolk-2023-09-17/
SUMMARY:Cruise to Norfolk
DESCRIPTION:Cruise to Norfolk and enjoy the Nashfest 757 Festival and take 
 in a Norfolk Tides baseball game!
ATTACH;FMTTYPE=image/jpeg:https://www.yryc.org/wp-content/uploads/2023/03/
 Cruise-to-Norfolk-2023.png
CATEGORIES:Cruise
LOCATION:https://watersidemarina.com
END:VEVENT
BEGIN:VTIMEZONE
TZID:America/New_York
X-LIC-LOCATION:America/New_York
BEGIN:DAYLIGHT
DTSTART:20230312T030000
TZOFFSETFROM:-0500
TZOFFSETTO:-0400
TZNAME:EDT
END:DAYLIGHT
END:VTIMEZONE
END:VCALENDAR