BEGIN:VCALENDAR
VERSION:2.0
PRODID:-//wp-events-plugin.com//7.2.3.1//EN
TZID:America/New_York
X-WR-TIMEZONE:America/New_York
BEGIN:VEVENT
UID:471@yryc.org
DTSTART;TZID=America/New_York:20230826T160000
DTEND;TZID=America/New_York:20230826T200000
DTSTAMP:20230728T005045Z
URL:https://www.yryc.org/events/dog-days-of-summer-cookout/
SUMMARY:Dog Days of Summer Cookout
DESCRIPTION:Celebrate National Dog Day with a hot dog cookout for our club 
 members. So come on out\, bring your dogs\, we will try to keep them out o
 f the buns! Look for the sign up closer to that date.
ATTACH;FMTTYPE=image/jpeg:https://www.yryc.org/wp-content/uploads/2023/07/
 Dog-Days-of-Summer-Cookout.png
CATEGORIES:Social
END:VEVENT
BEGIN:VTIMEZONE
TZID:America/New_York
X-LIC-LOCATION:America/New_York
BEGIN:DAYLIGHT
DTSTART:20230312T030000
TZOFFSETFROM:-0500
TZOFFSETTO:-0400
TZNAME:EDT
END:DAYLIGHT
END:VTIMEZONE
END:VCALENDAR