BEGIN:VCALENDAR
VERSION:2.0
PRODID:-//wp-events-plugin.com//7.2.3.1//EN
TZID:America/New_York
X-WR-TIMEZONE:America/New_York
BEGIN:VEVENT
UID:396@yryc.org
DTSTART;TZID=America/New_York;VALUE=DATE:20231014
DTEND;TZID=America/New_York;VALUE=DATE:20231015
DTSTAMP:20230304T132749Z
URL:https://www.yryc.org/events/fall-2023-raft-up-2023-10-14/
SUMMARY:Fall 2023 Raft Up
DESCRIPTION:Save the date for a local cruise and raft-up
ATTACH;FMTTYPE=image/jpeg:https://www.yryc.org/wp-content/uploads/2023/03/
 Cruise-Season-2023.png
CATEGORIES:Cruise
END:VEVENT
BEGIN:VTIMEZONE
TZID:America/New_York
X-LIC-LOCATION:America/New_York
BEGIN:DAYLIGHT
DTSTART:20230312T030000
TZOFFSETFROM:-0500
TZOFFSETTO:-0400
TZNAME:EDT
END:DAYLIGHT
END:VTIMEZONE
END:VCALENDAR