BEGIN:VCALENDAR
VERSION:2.0
PRODID:-//wp-events-plugin.com//7.2.3.1//EN
TZID:America/New_York
X-WR-TIMEZONE:America/New_York
BEGIN:VEVENT
UID:388@yryc.org
DTSTART;TZID=America/New_York;VALUE=DATE:20230623
DTEND;TZID=America/New_York;VALUE=DATE:20230624
DTSTAMP:20230521T231308Z
URL:https://www.yryc.org/events/fleet-cruise-weekend-2023-06-23/
SUMMARY:Fleet Cruise Weekend
DESCRIPTION:Fleet Cruise: Separate Sail and Power Cruises.\n\nSometimes it
 ’s hard to balance needs of everyone so we will try a cruise dedicated t
 o our members preference.&nbsp\;\nFleet Cruise: June 23-25th\n- Sailboats:
  Jeff Ellis has volunteered&nbsp\;to lead this group to Poquoson River\n- 
 Power Boats: We will venture to the Lynnhaven&nbsp\;River.
ATTACH;FMTTYPE=image/jpeg:https://www.yryc.org/wp-content/uploads/2023/03/
 Cruise-Season-2023.png
CATEGORIES:Cruise
END:VEVENT
BEGIN:VTIMEZONE
TZID:America/New_York
X-LIC-LOCATION:America/New_York
BEGIN:DAYLIGHT
DTSTART:20230312T030000
TZOFFSETFROM:-0500
TZOFFSETTO:-0400
TZNAME:EDT
END:DAYLIGHT
END:VTIMEZONE
END:VCALENDAR