BEGIN:VCALENDAR
VERSION:2.0
PRODID:-//wp-events-plugin.com//7.2.3.1//EN
TZID:America/New_York
X-WR-TIMEZONE:America/New_York
BEGIN:VEVENT
UID:289@yryc.org
DTSTART;TZID=America/New_York:20230125T170000
DTEND;TZID=America/New_York:20230125T210000
DTSTAMP:20230107T155332Z
URL:https://www.yryc.org/events/happy-hour-casa-pearl/
SUMMARY:Happy Hour @ Casa Pearl
DESCRIPTION:It may be cold outside\, but YRYC is planning a couple of winte
 r events to keep you warm!\n&nbsp\;\nConsider joining up with Laura B at C
 asa Pearl and enjoy tacos\, oysters\, and small plates as well as your fav
 orite adult beverage.\n&nbsp\;\nRSVP here below so Laura can get a headcou
 nt for the event.
ATTACH;FMTTYPE=image/jpeg:https://www.yryc.org/wp-content/uploads/2023/01/
 Happy-Hour-Casa-Pearl.png
CATEGORIES:Social
END:VEVENT
BEGIN:VTIMEZONE
TZID:America/New_York
X-LIC-LOCATION:America/New_York
BEGIN:STANDARD
DTSTART:20221106T010000
TZOFFSETFROM:-0400
TZOFFSETTO:-0500
TZNAME:EST
END:STANDARD
END:VTIMEZONE
END:VCALENDAR