BEGIN:VCALENDAR
VERSION:2.0
PRODID:-//wp-events-plugin.com//7.2.3.1//EN
TZID:America/New_York
X-WR-TIMEZONE:America/New_York
BEGIN:VEVENT
UID:467@yryc.org
DTSTART;TZID=America/New_York:20230702T170000
DTEND;TZID=America/New_York:20230702T210000
DTSTAMP:20230624T175700Z
URL:https://www.yryc.org/events/hot-fun-in-the-summertime-cook-out/
SUMMARY:Hot Fun in the Summertime Cook-Out
DESCRIPTION:YRYC will be hosting a hamburger event for July 2\, 2023. &nbsp
 \;This event will be hosted by our club\, but if you would like to bring a
  dessert please feel free to do so. &nbsp\;\n\nRear Commodore June will be
  sending out a sign-up sheet around 26 June\, so please RSVP before 1 July
 . &nbsp\;
ATTACH;FMTTYPE=image/jpeg:https://www.yryc.org/wp-content/uploads/2023/06/
 July-2-Cookout.png
CATEGORIES:Social
END:VEVENT
BEGIN:VTIMEZONE
TZID:America/New_York
X-LIC-LOCATION:America/New_York
BEGIN:DAYLIGHT
DTSTART:20230312T030000
TZOFFSETFROM:-0500
TZOFFSETTO:-0400
TZNAME:EDT
END:DAYLIGHT
END:VTIMEZONE
END:VCALENDAR