BEGIN:VCALENDAR
VERSION:2.0
PRODID:-//wp-events-plugin.com//7.2.3.1//EN
TZID:America/New_York
X-WR-TIMEZONE:America/New_York
BEGIN:VEVENT
UID:474@yryc.org
DTSTART;TZID=America/New_York:20231216T170000
DTEND;TZID=America/New_York:20231216T210000
DTSTAMP:20231203T210655Z
URL:https://www.yryc.org/events/jolly-holiday-party-2023/
SUMMARY:Jolly Holiday Party 2023
DESCRIPTION:Originally planned for 12/9 but now scheduled for 12/16.&nbsp\;
 \n&nbsp\;\nIt's that time of year to celebrate friends and family. YRYC wi
 ll be hosting a private event for our members on December 16. At 5pm we wi
 ll start with a business meeting\, dinner\, and the white elephant gift ex
 change will end the evening.\n&nbsp\;\nClub members should watch their ema
 il for details and RSVP instructions.
ATTACH;FMTTYPE=image/jpeg:https://www.yryc.org/wp-content/uploads/2023/12/
 2023-Holiday-Party.png
CATEGORIES:Social
END:VEVENT
BEGIN:VTIMEZONE
TZID:America/New_York
X-LIC-LOCATION:America/New_York
BEGIN:STANDARD
DTSTART:20231105T010000
TZOFFSETFROM:-0400
TZOFFSETTO:-0500
TZNAME:EST
END:STANDARD
END:VTIMEZONE
END:VCALENDAR