BEGIN:VCALENDAR
VERSION:2.0
PRODID:-//wp-events-plugin.com//7.2.3.1//EN
TZID:America/New_York
X-WR-TIMEZONE:America/New_York
BEGIN:VEVENT
UID:292@yryc.org
DTSTART;TZID=America/New_York:20230902T090000
DTEND;TZID=America/New_York:20230902T210000
DTSTAMP:20230107T233403Z
URL:https://www.yryc.org/events/labor-day-2023-cape-charles-2023-09-02/
SUMMARY:Labor Day 2023 @ Cape Charles
DESCRIPTION:While warm weather is not even here\, it is not too early to be
 gin thinking about our annual cruise to Cape Charles for Labor Day 2023 we
 ekend! &nbsp\; &nbsp\;\n\nCurrently we have 15 slips on hold. Click here t
 o reserve now as this cruise will sell out in the harbor marina!&nbsp\;\n\
 nAdditional information will be posted as the itinerary is finalized.
ATTACH;FMTTYPE=image/jpeg:https://www.yryc.org/wp-content/uploads/2023/01/
 Labor-Day-2023.png
CATEGORIES:Cruise
END:VEVENT
BEGIN:VTIMEZONE
TZID:America/New_York
X-LIC-LOCATION:America/New_York
BEGIN:DAYLIGHT
DTSTART:20230312T030000
TZOFFSETFROM:-0500
TZOFFSETTO:-0400
TZNAME:EDT
END:DAYLIGHT
END:VTIMEZONE
END:VCALENDAR