BEGIN:VCALENDAR
VERSION:2.0
PRODID:-//wp-events-plugin.com//7.2.3.1//EN
TZID:America/New_York
X-WR-TIMEZONE:America/New_York
BEGIN:VEVENT
UID:453@yryc.org
DTSTART;TZID=America/New_York;VALUE=DATE:20230505
DTEND;TZID=America/New_York;VALUE=DATE:20230508
DTSTAMP:20230402T223707Z
URL:https://www.yryc.org/events/moonlight-cruise-to-onancock/
SUMMARY:Moonlight Cruise to Onancock
DESCRIPTION:Opportunity Cruise to Onancock VA.\nIf your planning goes like 
 it does on Reveille\, the benevolent Captain always accepts input and conc
 erns from the crew. One of the regular concerns surrounding cruising plans
  is always the dreaded night passage and the subsequent watch keeping. In 
 an effort to allay those concerns and build some confidence we thought a f
 ull moon cruise to Onancock would fit the bill. We should have visibility 
 the whole evening as the moon rises right after sunset and sets right befo
 re sunrise. Because it is only one evening our watch schedule will be fres
 h starting watches after the sails are set on the Northern leg. Also Onanc
 ock is one of the destinations I have wanted to visit.\nOur plan: Leave af
 ter Commodores Cocktail hour (virgin libations only) between 9 &amp\;10 PM
  and sail through the night. We plan on arriving at the Onancock canal aft
 er sunrise&nbsp\; and transit the canal in daylight\, moor at the marina a
 nd get some rest for the rest of the morning. Enjoy the afternoon visiting
  Onancock and eat a really good meal in town. Sunday morning after breakfa
 st in town we will slip the lines and head back in daylight to Yacht Haven
 .\nWe would love to have some other boats join Reveille on the trip. Also 
 during Commodores Cocktail Hour on the 5th we will have a discussion on ni
 ght passages and some of the considerations necessary as well as a Captain
 s meeting to discuss weather and the route. If you are interested you can 
 contact Jeff E.
ATTACH;FMTTYPE=image/jpeg:https://www.yryc.org/wp-content/uploads/2023/04/
 Moonlight-Cruise-Onancock-2023.png
CATEGORIES:Cruise
LOCATION:Onancock\, Virginia\, 2 Market St\, Onancock\, Virginia\, 23417\, 
 United States
X-APPLE-STRUCTURED-LOCATION;VALUE=URI;X-ADDRESS=2 Market St\, Onancock\, Vi
 rginia\, 23417\, United States;X-APPLE-RADIUS=100;X-TITLE=Onancock\, Virgi
 nia:geo:0,0
END:VEVENT
BEGIN:VTIMEZONE
TZID:America/New_York
X-LIC-LOCATION:America/New_York
BEGIN:DAYLIGHT
DTSTART:20230312T030000
TZOFFSETFROM:-0500
TZOFFSETTO:-0400
TZNAME:EDT
END:DAYLIGHT
END:VTIMEZONE
END:VCALENDAR