BEGIN:VCALENDAR
VERSION:2.0
PRODID:-//wp-events-plugin.com//7.2.3.1//EN
TZID:America/New_York
X-WR-TIMEZONE:America/New_York
BEGIN:VEVENT
UID:475@yryc.org
DTSTART;TZID=America/New_York:20240607T120000
DTEND;TZID=America/New_York:20240609T180000
DTSTAMP:20240129T141442Z
URL:https://www.yryc.org/events/norfolk-harborfest-2024-_-june-7-9/
SUMMARY:Norfolk Harborfest 2024 _ June 7-9
DESCRIPTION:2024 Harborfest
END:VEVENT
BEGIN:VTIMEZONE
TZID:America/New_York
X-LIC-LOCATION:America/New_York
BEGIN:DAYLIGHT
DTSTART:20240310T030000
TZOFFSETFROM:-0500
TZOFFSETTO:-0400
TZNAME:EDT
END:DAYLIGHT
END:VTIMEZONE
END:VCALENDAR