BEGIN:VCALENDAR
VERSION:2.0
PRODID:-//wp-events-plugin.com//7.2.3.1//EN
TZID:America/New_York
X-WR-TIMEZONE:America/New_York
BEGIN:VEVENT
UID:463@yryc.org
DTSTART;TZID=America/New_York;VALUE=DATE:20230604
DTEND;TZID=America/New_York;VALUE=DATE:20230605
DTSTAMP:20230514T203324Z
URL:https://www.yryc.org/events/opportunity-cruise-to-onancock-2023-06-04/
SUMMARY:Opportunity Cruise to Onancock
DESCRIPTION:Rescheduled from May 5.\n\nLeave after Commodores Cocktail hour
  (virgin libations only\, of course!) between 9 &amp\;10 PM and sail throu
 gh the night. We plan on arriving at the Onancock canal after sunrise and 
 transit the canal in daylight\, moor at the marina and get some rest for t
 he rest of the morning. Enjoy the afternoon visiting Onancock and eat a re
 ally good meal in town. Sunday morning after breakfast in town we will sli
 p the lines and head back in daylight to Yacht Haven.
ATTACH;FMTTYPE=image/jpeg:https://www.yryc.org/wp-content/uploads/2023/05/
 Take-2-Moonlight-Cruise-Onancock-2023.png
CATEGORIES:Cruise
END:VEVENT
BEGIN:VTIMEZONE
TZID:America/New_York
X-LIC-LOCATION:America/New_York
BEGIN:DAYLIGHT
DTSTART:20230312T030000
TZOFFSETFROM:-0500
TZOFFSETTO:-0400
TZNAME:EDT
END:DAYLIGHT
END:VTIMEZONE
END:VCALENDAR