BEGIN:VCALENDAR
VERSION:2.0
PRODID:-//wp-events-plugin.com//7.2.3.1//EN
TZID:America/New_York
X-WR-TIMEZONE:America/New_York
BEGIN:VEVENT
UID:465@yryc.org
DTSTART;TZID=America/New_York:20230617T100000
DTEND;TZID=America/New_York:20230617T113000
DTSTAMP:20230529T230438Z
URL:https://www.yryc.org/events/saturday-education-series-june-17/
SUMMARY:Saturday Education Series - June 17
DESCRIPTION:Why Knot?\nKnot tying is one of those things’ sailors do. Som
 etimes we do it well and sometimes we just “tie a lot.” Bad knots don
 ’t untie and end up in cut lines or come undone at the least opportune t
 ime.\nMany of us know a couple of knots but may need to learn new ones for
  different applications whether on the boat in the car or at home.\nCome j
 oin us learning and sharing some new knots. We will supply hanks of line a
 nd diagrams for everyone attending along with coffee and light snacks ... 
 Why Knot?
ATTACH;FMTTYPE=image/jpeg:https://www.yryc.org/wp-content/uploads/2023/05/
 SES-KNOTS.png
CATEGORIES:Education
END:VEVENT
BEGIN:VTIMEZONE
TZID:America/New_York
X-LIC-LOCATION:America/New_York
BEGIN:DAYLIGHT
DTSTART:20230312T030000
TZOFFSETFROM:-0500
TZOFFSETTO:-0400
TZNAME:EDT
END:DAYLIGHT
END:VTIMEZONE
END:VCALENDAR