BEGIN:VCALENDAR
VERSION:2.0
PRODID:-//wp-events-plugin.com//7.2.3.1//EN
TZID:America/New_York
X-WR-TIMEZONE:America/New_York
BEGIN:VEVENT
UID:468@yryc.org
DTSTART;TZID=America/New_York:20230722T100000
DTEND;TZID=America/New_York:20230722T113000
DTSTAMP:20230720T230745Z
URL:https://www.yryc.org/events/saturday-education-series-life-on-the-hook
 /
SUMMARY:Saturday Education Series - Life on "The Hook"
DESCRIPTION:Our next session in our Education Series will feature club memb
 ers Jade and Rob L talking about some of the transitions and tips they fig
 ured out moving from dockside to 'on the hook' almost full time. What norm
 al looked like for them on the hook. We will also have a look at weather a
 pps that folks use and why they like their app of preference.\n\nSee you p
 oolside at YRYH!
ATTACH;FMTTYPE=image/jpeg:https://www.yryc.org/wp-content/uploads/2023/07/
 Life-on-the-Hook.png
CATEGORIES:Education
END:VEVENT
BEGIN:VTIMEZONE
TZID:America/New_York
X-LIC-LOCATION:America/New_York
BEGIN:DAYLIGHT
DTSTART:20230312T030000
TZOFFSETFROM:-0500
TZOFFSETTO:-0400
TZNAME:EDT
END:DAYLIGHT
END:VTIMEZONE
END:VCALENDAR