BEGIN:VCALENDAR
VERSION:2.0
PRODID:-//wp-events-plugin.com//7.2.3.1//EN
TZID:America/New_York
X-WR-TIMEZONE:America/New_York
BEGIN:VEVENT
UID:469@yryc.org
DTSTART;TZID=America/New_York:20230812T100000
DTEND;TZID=America/New_York:20230812T113000
DTSTAMP:20230720T231218Z
URL:https://www.yryc.org/events/saturday-education-series-marine-electrici
 ty/
SUMMARY:Saturday Education Series - Marine Electricity
DESCRIPTION:Marine electricity with Joran. He will help us understand the m
 agic and the dangers of electricity on boats.\n\nSee you poolside at YRYH!
ATTACH;FMTTYPE=image/jpeg:https://www.yryc.org/wp-content/uploads/2023/07/
 Marine-Electricity.png
CATEGORIES:Education
END:VEVENT
BEGIN:VTIMEZONE
TZID:America/New_York
X-LIC-LOCATION:America/New_York
BEGIN:DAYLIGHT
DTSTART:20230312T030000
TZOFFSETFROM:-0500
TZOFFSETTO:-0400
TZNAME:EDT
END:DAYLIGHT
END:VTIMEZONE
END:VCALENDAR