BEGIN:VCALENDAR
VERSION:2.0
PRODID:-//wp-events-plugin.com//7.2.3.1//EN
TZID:America/New_York
X-WR-TIMEZONE:America/New_York
BEGIN:VEVENT
UID:464@yryc.org
DTSTART;TZID=America/New_York:20230520T100000
DTEND;TZID=America/New_York:20230520T113000
DTSTAMP:20230519T014732Z
URL:https://www.yryc.org/events/saturday-morning-education-series-may-20/
SUMMARY:Saturday Morning Education Series - May 20
DESCRIPTION:We are so happy at the turnout of our first Saturday morning ed
 ucation series\, which featured club member GT leading an informative disc
 ussion on anchoring. &nbsp\;\n\nOur next session will be Saturday\, May 20
  at 10am at the YRYH Activities Building. &nbsp\;Jim B will lead a session
  on rafting procedures to get us ready for our big Memorial Day weekend tr
 ip to Mobjack Bay. &nbsp\;Maybe Jim will even share his secrets on navigat
 ing "The Swash".\n\nSo come have some coffee and donuts with us\, share a 
 sea story or two so we can all learn from one another's experiences.
ATTACH;FMTTYPE=image/jpeg:https://www.yryc.org/wp-content/uploads/2023/05/
 saturday-am.png
CATEGORIES:Education
END:VEVENT
BEGIN:VTIMEZONE
TZID:America/New_York
X-LIC-LOCATION:America/New_York
BEGIN:DAYLIGHT
DTSTART:20230312T030000
TZOFFSETFROM:-0500
TZOFFSETTO:-0400
TZNAME:EDT
END:DAYLIGHT
END:VTIMEZONE
END:VCALENDAR