BEGIN:VCALENDAR
VERSION:2.0
PRODID:-//wp-events-plugin.com//7.2.3.1//EN
TZID:America/New_York
X-WR-TIMEZONE:America/New_York
BEGIN:VEVENT
UID:406@yryc.org
DTSTART;TZID=America/New_York;VALUE=DATE:20230611
DTEND;TZID=America/New_York;VALUE=DATE:20230613
DTSTAMP:20230531T000721Z
URL:https://www.yryc.org/events/save-the-date-harborfest-2023-2023-06-11/
SUMMARY:Cruise to HarborFest 2023
DESCRIPTION:YRYC has 11 boats signed up to head to Norfolk for the 2023 Har
 borfest!\nMany of the sailboats\, led by S/V Sirena Gorda\, will set sail 
 for Old Point Comfort on Thursday\, June 8 between 10am - 11am and invite 
 others to join them!&nbsp\; Once at OPC\, we will anchor out and plan to e
 njoy a visit to Pheobus\, taking full advantage of their dinghy dock.&nbsp
 \; Contact GT if you wish to join the Thursday fleet!\n\nMotor vessels\, h
 aving the speed advantage\, can certainly join the sailing group\, or may 
 choose to motor ahead and meet at the rally point on Friday morning for th
 e Parade of Sails. &nbsp\;Here is where our club will escort the SS Virgin
 ia into Downtown Norfolk.&nbsp\; Full instructions on the Parade of Sails 
 is contained in your Harborfest bag.\nMost club boats will be staying at F
 reemason Harbor\, just a short stroll from Town Point Park\, where the Har
 borfest events will take place. &nbsp\;Others will be staying across the E
 lizabeth River at Tidewater Marina and will take a quick ferry ride to com
 e join in the fun.\n\nCheck out the full schedule of Harborfest activities
  here! &nbsp\;&nbsp\; &nbsp\;
ATTACH;FMTTYPE=image/jpeg:https://www.yryc.org/wp-content/uploads/2023/03/
 Cruise-to-Harborfest-2023.png
CATEGORIES:Cruise
END:VEVENT
BEGIN:VTIMEZONE
TZID:America/New_York
X-LIC-LOCATION:America/New_York
BEGIN:DAYLIGHT
DTSTART:20230312T030000
TZOFFSETFROM:-0500
TZOFFSETTO:-0400
TZNAME:EDT
END:DAYLIGHT
END:VTIMEZONE
END:VCALENDAR