BEGIN:VCALENDAR
VERSION:2.0
PRODID:-//wp-events-plugin.com//7.2.3.1//EN
TZID:America/New_York
X-WR-TIMEZONE:America/New_York
BEGIN:VEVENT
UID:401@yryc.org
DTSTART;TZID=America/New_York;VALUE=DATE:20230529
DTEND;TZID=America/New_York;VALUE=DATE:20230531
DTSTAMP:20230530T003650Z
URL:https://www.yryc.org/events/save-the-date-memorial-day-weekend-raft-up
 -2023-05-29/
SUMMARY:Memorial Day Weekend Raft Up
DESCRIPTION:We will carry on the YRYC annual tradition first cruise of the 
 season with a raft-up to Mobjack Bay.\n&nbsp\;\nThis year's trip is schedu
 led to take place Saturday\, May 27 and returning Monday\, May 29. We will
  head out Saturday morning after Friday night festivities at the marina or
 ganized by the club.\n&nbsp\;\nRSVP will be sent out to club members close
 r to the event date. This will allow the Cruise Captain to organize a plan
  for all the attending boats.
ATTACH;FMTTYPE=image/jpeg:https://www.yryc.org/wp-content/uploads/2023/01/
 Memorial-Day-2023.png
CATEGORIES:Cruise
END:VEVENT
BEGIN:VTIMEZONE
TZID:America/New_York
X-LIC-LOCATION:America/New_York
BEGIN:DAYLIGHT
DTSTART:20230312T030000
TZOFFSETFROM:-0500
TZOFFSETTO:-0400
TZNAME:EDT
END:DAYLIGHT
END:VTIMEZONE
END:VCALENDAR