BEGIN:VCALENDAR
VERSION:2.0
PRODID:-//wp-events-plugin.com//7.2.3.1//EN
TZID:America/New_York
X-WR-TIMEZONE:America/New_York
BEGIN:VEVENT
UID:459@yryc.org
DTSTART;TZID=America/New_York;VALUE=DATE:20230521
DTEND;TZID=America/New_York;VALUE=DATE:20230522
DTSTAMP:20230429T164017Z
URL:https://www.yryc.org/events/shake-down-cruise-2023-05-21/
SUMMARY:Shake Down Cruise
DESCRIPTION:Shakedown cruise is a nautical term in which the performance of
  a ship is tested. Generally\, shakedown cruises are performed before a sh
 ip enters service or after major changes such as a crew change\, repair or
  overhaul. &nbsp\;\n\nSo let's make sure our boats are ready for the cruis
 ing season by taking a quick (and fun) overnight trip. &nbsp\;Watch for de
 tails from the cruise captain closer the event date.\n\nThis cruise will b
 e to Hampton. &nbsp\;Wait your club email for sign-up information and othe
 r details.
ATTACH;FMTTYPE=image/jpeg:https://www.yryc.org/wp-content/uploads/2023/03/
 Cruise-Season-2023.png
CATEGORIES:Cruise
END:VEVENT
BEGIN:VTIMEZONE
TZID:America/New_York
X-LIC-LOCATION:America/New_York
BEGIN:DAYLIGHT
DTSTART:20230312T030000
TZOFFSETFROM:-0500
TZOFFSETTO:-0400
TZNAME:EDT
END:DAYLIGHT
END:VTIMEZONE
END:VCALENDAR