BEGIN:VCALENDAR
VERSION:2.0
PRODID:-//wp-events-plugin.com//7.2.3.1//EN
TZID:America/New_York
X-WR-TIMEZONE:America/New_York
BEGIN:VEVENT
UID:288@yryc.org
DTSTART;TZID=America/New_York:20230311T170000
DTEND;TZID=America/New_York:20230311T200000
DTSTAMP:20230304T115959Z
URL:https://www.yryc.org/events/st-patricks-day-party/
SUMMARY:St Patricks Day Party
DESCRIPTION:Our potluck o'gold party is back!&nbsp\;\n\nCheck your email fo
 r event details and RSVP link!
ATTACH;FMTTYPE=image/jpeg:https://www.yryc.org/wp-content/uploads/2022/12/
 Save-the-Date-St-Pats-2023-1.png
CATEGORIES:Social
END:VEVENT
BEGIN:VTIMEZONE
TZID:America/New_York
X-LIC-LOCATION:America/New_York
BEGIN:STANDARD
DTSTART:20221106T010000
TZOFFSETFROM:-0400
TZOFFSETTO:-0500
TZNAME:EST
END:STANDARD
END:VTIMEZONE
END:VCALENDAR