BEGIN:VCALENDAR
VERSION:2.0
PRODID:-//wp-events-plugin.com//7.2.3.1//EN
TZID:America/New_York
X-WR-TIMEZONE:America/New_York
BEGIN:VEVENT
UID:301@yryc.org
DTSTART;TZID=America/New_York:20230401T150000
DTEND;TZID=America/New_York:20230401T173000
DTSTAMP:20230113T140222Z
URL:https://www.yryc.org/events/whiskey-tasting-tour-at-copper-fox/
SUMMARY:Whiskey Tour & Tasting at Copper Fox
DESCRIPTION:Saturday\, April 1\, 2023 at 3pm is the date for our tour &amp\
 ; tasting at Copper Fox Distillery!\n&nbsp\;\nIn a private group they can 
 take up to 25 people.\n&nbsp\;\nThis is an indoor tour with some outdoor w
 alking from building to building. After\, you can enjoy cocktails or a fli
 ght at a discounted price. This would be open to members\, and if there is
  extra room\, members could bring guest. If folks want to continue to hang
  out\, dinner somewhere could be discussed.\n&nbsp\;\nTour: $10 per person
 . (if you do not wish a whisky flight\, you can purchase a cocktail)\nTour
  &amp\; Classic Whisky Flight: $18 per person (save $2)\nTour &amp\; Premi
 um Whisky Flight: $23 per person (save $2).\n&nbsp\;\nCooper Fox Distiller
 y\n901 Capitol Landing Rd\nWilliamsburg\, VA 23185\n&nbsp\;\nRSVP Link - h
 ttps://forms.gle/UWuv4a6D6nVNnn3K8
ATTACH;FMTTYPE=image/jpeg:https://www.yryc.org/wp-content/uploads/2023/01/
 copper-fix-distillery-1.png
CATEGORIES:Social
END:VEVENT
BEGIN:VTIMEZONE
TZID:America/New_York
X-LIC-LOCATION:America/New_York
BEGIN:DAYLIGHT
DTSTART:20230312T030000
TZOFFSETFROM:-0500
TZOFFSETTO:-0400
TZNAME:EDT
END:DAYLIGHT
END:VTIMEZONE
END:VCALENDAR