BEGIN:VCALENDAR
VERSION:2.0
PRODID:-//wp-events-plugin.com//7.2.3.1//EN
TZID:America/New_York
X-WR-TIMEZONE:America/New_York
BEGIN:VEVENT
UID:472@yryc.org
DTSTART;TZID=America/New_York:20230916T110000
DTEND;TZID=America/New_York:20230916T150000
DTSTAMP:20230728T013634Z
URL:https://www.yryc.org/events/york-river-cup-2023/
SUMMARY:York River Cup 2023
DESCRIPTION:The York River Cup is YRYC’s premier annual racing event. It 
 is sanctioned by the CBYRA.\n&nbsp\;\nYork River Yacht Club proudly presen
 ts the annual York River Cup! This year’s race will be held on Saturday\
 , September 16\, 2022 starting at 11:00am at “R24”. Our flagship racin
 g event features spinnaker and non-spinnaker fleets\, and will run up to t
 hree planned races.\n&nbsp\;\nThis event is open to all PHRF boats with ca
 tegory 5P/4P certificates. Entries due to the YRYC Race Captain prior to r
 ace time on September 16. There is an entry fee of $15 for anyone not alre
 ady registered for the YRYC 2022 racing season.\n&nbsp\;\nEntry form will 
 be available online at https://forms.gle/kKFveYF9pvQtobSYA . Sailing instr
 uctions available for download on the YRYC website at yryc.org/racing clos
 er to the event date.\n&nbsp\;\nFor more information\, contact racecaptain
 @yryc.org
ATTACH;FMTTYPE=image/jpeg:https://www.yryc.org/wp-content/uploads/2023/07/
 York-River-Cup-2023.png
CATEGORIES:Racing
END:VEVENT
BEGIN:VTIMEZONE
TZID:America/New_York
X-LIC-LOCATION:America/New_York
BEGIN:DAYLIGHT
DTSTART:20230312T030000
TZOFFSETFROM:-0500
TZOFFSETTO:-0400
TZNAME:EDT
END:DAYLIGHT
END:VTIMEZONE
END:VCALENDAR