BEGIN:VCALENDAR
VERSION:2.0
PRODID:-//wp-events-plugin.com//7.2.3.1//EN
TZID:America/New_York
X-WR-TIMEZONE:America/New_York
BEGIN:VEVENT
UID:480@yryc.org
DTSTART;TZID=America/New_York:20241207T170000
DTEND;TZID=America/New_York:20241207T230000
DTSTAMP:20240310T120807Z
URL:https://www.yryc.org/events/yryc-holiday-party-2/
SUMMARY:YRYC Holiday Party
DESCRIPTION:Location: YRYH Marina\, Activities Room\n\nTime:&nbsp\; &nbsp\;
  &nbsp\; &nbsp\;5PM\n\nMore details are pending
END:VEVENT
BEGIN:VTIMEZONE
TZID:America/New_York
X-LIC-LOCATION:America/New_York
BEGIN:STANDARD
DTSTART:20241103T010000
TZOFFSETFROM:-0400
TZOFFSETTO:-0500
TZNAME:EST
END:STANDARD
END:VTIMEZONE
END:VCALENDAR