BEGIN:VCALENDAR
VERSION:2.0
PRODID:-//wp-events-plugin.com//7.2.3.1//EN
TZID:America/New_York
X-WR-TIMEZONE:America/New_York
BEGIN:VEVENT
UID:283@yryc.org
DTSTART;TZID=America/New_York:20221203T163000
DTEND;TZID=America/New_York:20221203T203000
DTSTAMP:20221126T174833Z
URL:https://www.yryc.org/events/yryc-holiday-party/
SUMMARY:2022 YRYC Holiday Party
DESCRIPTION:Please RSVP by the link sent to members via email\n\n 	Arrive e
 arly 4:30 to Jingle and Mingle!\n 	Annual Meeting will start at 5:00 PM\n 
 	Cocktails (BYOB) 6:00 PM\n 	Dinner 6:30 PM -&nbsp\;Bangkok Noi Delicacies
  will be served\n 	Gift Exchange to begin after dessert\n 	Gift Guidelines
 :&nbsp\; Wrapped\,&nbsp\; $20-25 limit&nbsp\; 1 per person&nbsp\;\n
ATTACH;FMTTYPE=image/jpeg:https://www.yryc.org/wp-content/uploads/2022/11/
 YRYC-Holiday-Party-2022.png
CATEGORIES:Social
END:VEVENT
BEGIN:VTIMEZONE
TZID:America/New_York
X-LIC-LOCATION:America/New_York
BEGIN:STANDARD
DTSTART:20221106T010000
TZOFFSETFROM:-0400
TZOFFSETTO:-0500
TZNAME:EST
END:STANDARD
END:VTIMEZONE
END:VCALENDAR